BEGIN:VCALENDAR
VERSION:2.0
PRODID:-//VIA CHRISTUS AKADEMİ - ECPv6.15.17.1//NONSGML v1.0//EN
CALSCALE:GREGORIAN
METHOD:PUBLISH
X-ORIGINAL-URL:https://akademi.viachristus.com
X-WR-CALDESC:VIA CHRISTUS AKADEMİ için etkinlikler
REFRESH-INTERVAL;VALUE=DURATION:PT1H
X-Robots-Tag:noindex
X-PUBLISHED-TTL:PT1H
BEGIN:VTIMEZONE
TZID:Europe/Moscow
BEGIN:STANDARD
TZOFFSETFROM:+0300
TZOFFSETTO:+0300
TZNAME:MSK
DTSTART:20240101T000000
END:STANDARD
END:VTIMEZONE
BEGIN:VEVENT
DTSTART;TZID=Europe/Moscow:20251007T200000
DTEND;TZID=Europe/Moscow:20251007T213000
DTSTAMP:20260422T021256
CREATED:20260104T174855Z
LAST-MODIFIED:20260104T174855Z
UID:4875-1759867200-1759872600@akademi.viachristus.com
SUMMARY:Sertifika Programı Oryantasyon
DESCRIPTION:Paylaşım: Kerem Koç
URL:https://akademi.viachristus.com/event/sertifika-programi-oryantasyon/
CATEGORIES:Seminer / Online
END:VEVENT
END:VCALENDAR