BEGIN:VCALENDAR
VERSION:2.0
PRODID:-//VIA CHRISTUS AKADEMİ - ECPv6.15.17.1//NONSGML v1.0//EN
CALSCALE:GREGORIAN
METHOD:PUBLISH
X-ORIGINAL-URL:https://akademi.viachristus.com
X-WR-CALDESC:VIA CHRISTUS AKADEMİ için etkinlikler
REFRESH-INTERVAL;VALUE=DURATION:PT1H
X-Robots-Tag:noindex
X-PUBLISHED-TTL:PT1H
BEGIN:VTIMEZONE
TZID:Europe/Moscow
BEGIN:STANDARD
TZOFFSETFROM:+0300
TZOFFSETTO:+0300
TZNAME:MSK
DTSTART:20230101T000000
END:STANDARD
END:VTIMEZONE
BEGIN:VEVENT
DTSTART;VALUE=DATE:20240529
DTEND;VALUE=DATE:20240531
DTSTAMP:20260423T004723
CREATED:20250221T080622Z
LAST-MODIFIED:20250225T073904Z
UID:2000-1716940800-1717113599@akademi.viachristus.com
SUMMARY:Kutsal Kitap’ta Antlaşma Kavramı
DESCRIPTION:Paylaşım: Mehmet Durmaz
URL:https://akademi.viachristus.com/event/kutsal-kitapta-antlasma-kavrami/
CATEGORIES:Seminer / Online
END:VEVENT
END:VCALENDAR