BEGIN:VCALENDAR
VERSION:2.0
PRODID:-//VIA CHRISTUS AKADEMİ - ECPv6.15.17.1//NONSGML v1.0//EN
CALSCALE:GREGORIAN
METHOD:PUBLISH
X-ORIGINAL-URL:https://akademi.viachristus.com
X-WR-CALDESC:VIA CHRISTUS AKADEMİ için etkinlikler
REFRESH-INTERVAL;VALUE=DURATION:PT1H
X-Robots-Tag:noindex
X-PUBLISHED-TTL:PT1H
BEGIN:VTIMEZONE
TZID:Europe/Moscow
BEGIN:STANDARD
TZOFFSETFROM:+0300
TZOFFSETTO:+0300
TZNAME:MSK
DTSTART:20240101T000000
END:STANDARD
END:VTIMEZONE
BEGIN:VEVENT
DTSTART;TZID=Europe/Moscow:20251205T203000
DTEND;TZID=Europe/Moscow:20251205T220000
DTSTAMP:20260421T215132
CREATED:20250602T125359Z
LAST-MODIFIED:20260104T175211Z
UID:3411-1764966600-1764972000@akademi.viachristus.com
SUMMARY:Hizmet ve Öğrenci Yetiştirme 1
DESCRIPTION:Paylaşım: Dr. Tony Merida\, Heiden Ratner\, Kerem Koç
URL:https://akademi.viachristus.com/event/hizmet-ve-ogrenci-yetistirme-1/
CATEGORIES:Seminer / Online
END:VEVENT
BEGIN:VEVENT
DTSTART;TZID=Europe/Moscow:20251206T203000
DTEND;TZID=Europe/Moscow:20251206T220000
DTSTAMP:20260421T215132
CREATED:20251203T082442Z
LAST-MODIFIED:20260104T175203Z
UID:4859-1765053000-1765058400@akademi.viachristus.com
SUMMARY:Hizmet ve Öğrenci Yetiştirme 2
DESCRIPTION:Paylaşım: Dr. Tony Merida\, Heiden Ratner\, Kerem Koç
URL:https://akademi.viachristus.com/event/hizmet-ve-ogrenci-yetistirme-2/
CATEGORIES:Seminer / Online
END:VEVENT
END:VCALENDAR