BEGIN:VCALENDAR
VERSION:2.0
PRODID:-//VIA CHRISTUS AKADEMİ - ECPv6.15.17.1//NONSGML v1.0//EN
CALSCALE:GREGORIAN
METHOD:PUBLISH
X-ORIGINAL-URL:https://akademi.viachristus.com
X-WR-CALDESC:VIA CHRISTUS AKADEMİ için etkinlikler
REFRESH-INTERVAL;VALUE=DURATION:PT1H
X-Robots-Tag:noindex
X-PUBLISHED-TTL:PT1H
BEGIN:VTIMEZONE
TZID:Europe/Moscow
BEGIN:STANDARD
TZOFFSETFROM:+0300
TZOFFSETTO:+0300
TZNAME:MSK
DTSTART:20210101T000000
END:STANDARD
END:VTIMEZONE
BEGIN:VEVENT
DTSTART;VALUE=DATE:20221206
DTEND;VALUE=DATE:20221207
DTSTAMP:20260424T032401
CREATED:20250225T074423Z
LAST-MODIFIED:20250225T074423Z
UID:2251-1670284800-1670371199@akademi.viachristus.com
SUMMARY:Elçilerin İşleri Kitabından Dersler 2
DESCRIPTION:Eğitmen: Mark Waite
URL:https://akademi.viachristus.com/event/elcilerin-isleri-kitabindan-dersler-2/
CATEGORIES:Seminer / Online
END:VEVENT
END:VCALENDAR