BEGIN:VCALENDAR
VERSION:2.0
PRODID:-//VIA CHRISTUS AKADEMİ - ECPv6.15.17.1//NONSGML v1.0//EN
CALSCALE:GREGORIAN
METHOD:PUBLISH
X-ORIGINAL-URL:https://akademi.viachristus.com
X-WR-CALDESC:VIA CHRISTUS AKADEMİ için etkinlikler
REFRESH-INTERVAL;VALUE=DURATION:PT1H
X-Robots-Tag:noindex
X-PUBLISHED-TTL:PT1H
BEGIN:VTIMEZONE
TZID:Europe/Moscow
BEGIN:STANDARD
TZOFFSETFROM:+0300
TZOFFSETTO:+0300
TZNAME:MSK
DTSTART:20230101T000000
END:STANDARD
END:VTIMEZONE
BEGIN:VEVENT
DTSTART;VALUE=DATE:20240318
DTEND;VALUE=DATE:20240323
DTSTAMP:20260422T023019
CREATED:20250221T080454Z
LAST-MODIFIED:20250225T104326Z
UID:1996-1710720000-1711151999@akademi.viachristus.com
SUMMARY:Kilise Tarihi
DESCRIPTION:Eğitmen: Dr. Andrew Newell\nDERSİN TANIMI\nBu Kilise Tarihi dersi\, başlangıcından günümüze kadar Hristiyan Kilisesi’nin gelişimini keşfetmeyi amaçlamaktadır. Yüzyıllar boyunca Kilise içindeki önemli olayları\, figürleri\, hareketleri ve teolojik gelişmeleri kapsamaktadır. \nDERSİN AMACI\n• Önemli olayları\, hareketleri ve figürleri vurgulayarak Hıristiyan Kilisesi tarihine genel bir bakış sağlamak.\n• Hristiyan doktrin ve uygulamalarının tarihsel bağlamlar içinde evrimini anlamak.\n• Kilise ile siyaset\, kültür ve bilim de dahil olmak üzere daha geniş toplumsal değişimler arasındaki etkileşimi keşfetmek.\n• Tarihsel olayların çağdaş Hristiyan inanç ve uygulamalarını nasıl şekillendirdiği konusunda eleştirel düşünmeyi teşvik etmek.\n• Öğrencileri Hristiyan geleneği içindeki çeşitliliği ve birliği anlayacak bilgiyle donatmak. \nKAYNAKLAR\nAna Ders Kitapları: \n\nKilise Tarihi\, Editör: Dr. Tim Dowley. Yeni Yaşam Yayınları\nHristiyan İlahiyatının Hikayesi\, Roger E. Olson. Haberci Yayınevi\n\nÖnerilen Kaynaklar: \n\nSözün Tanıkları\, Victor Shepherd\nAnadolu’nun Azizleri\, Hanspeter Tiefenbach\nReformcuların Teolojileri\, Timothy George\nTarih ve Arkeoloji Serisi\, Marc Madrigal
URL:https://akademi.viachristus.com/event/kilise-tarihi/
LOCATION:Akademi Binası
CATEGORIES:Ana Ders
END:VEVENT
END:VCALENDAR