BEGIN:VCALENDAR
VERSION:2.0
PRODID:-//VIA CHRISTUS AKADEMİ - ECPv6.15.17.1//NONSGML v1.0//EN
CALSCALE:GREGORIAN
METHOD:PUBLISH
X-ORIGINAL-URL:https://akademi.viachristus.com
X-WR-CALDESC:VIA CHRISTUS AKADEMİ için etkinlikler
REFRESH-INTERVAL;VALUE=DURATION:PT1H
X-Robots-Tag:noindex
X-PUBLISHED-TTL:PT1H
BEGIN:VTIMEZONE
TZID:Europe/Moscow
BEGIN:STANDARD
TZOFFSETFROM:+0300
TZOFFSETTO:+0300
TZNAME:MSK
DTSTART:20240101T000000
END:STANDARD
END:VTIMEZONE
BEGIN:VEVENT
DTSTART;VALUE=DATE:20250331
DTEND;VALUE=DATE:20250404
DTSTAMP:20260422T014450
CREATED:20250220T063300Z
LAST-MODIFIED:20250611T090425Z
UID:1649-1743379200-1743724799@akademi.viachristus.com
SUMMARY:Mesih'te Yaşam : Efesliler Mektubu
DESCRIPTION:Eğitmen: Dr. Tim Savage
URL:https://akademi.viachristus.com/event/mesihte-yasam/
LOCATION:Çıralı
CATEGORIES:Yardımcı Ders
END:VEVENT
BEGIN:VEVENT
DTSTART;VALUE=DATE:20250423
DTEND;VALUE=DATE:20250425
DTSTAMP:20260422T014450
CREATED:20250220T063508Z
LAST-MODIFIED:20250611T101309Z
UID:1651-1745366400-1745539199@akademi.viachristus.com
SUMMARY:Mesih'e Sadık Hizmet
DESCRIPTION:Eğitmen: Kevin Scott
URL:https://akademi.viachristus.com/event/mesihe-sadik-hizmet/
CATEGORIES:Yardımcı Ders / Online
END:VEVENT
END:VCALENDAR