BEGIN:VCALENDAR
VERSION:2.0
PRODID:-//VIA CHRISTUS AKADEMİ - ECPv6.15.17.1//NONSGML v1.0//EN
CALSCALE:GREGORIAN
METHOD:PUBLISH
X-ORIGINAL-URL:https://akademi.viachristus.com
X-WR-CALDESC:VIA CHRISTUS AKADEMİ için etkinlikler
REFRESH-INTERVAL;VALUE=DURATION:PT1H
X-Robots-Tag:noindex
X-PUBLISHED-TTL:PT1H
BEGIN:VTIMEZONE
TZID:Europe/Moscow
BEGIN:STANDARD
TZOFFSETFROM:+0300
TZOFFSETTO:+0300
TZNAME:MSK
DTSTART:20230101T000000
END:STANDARD
END:VTIMEZONE
BEGIN:VEVENT
DTSTART;VALUE=DATE:20240906
DTEND;VALUE=DATE:20240907
DTSTAMP:20260422T105306
CREATED:20250221T075550Z
LAST-MODIFIED:20250225T073835Z
UID:1977-1725580800-1725667199@akademi.viachristus.com
SUMMARY:Oryantasyon
DESCRIPTION:Eğitmen: Kerem Koç
URL:https://akademi.viachristus.com/event/oryantasyon/
CATEGORIES:Seminer / Online
END:VEVENT
BEGIN:VEVENT
DTSTART;VALUE=DATE:20240906
DTEND;VALUE=DATE:20240907
DTSTAMP:20260422T105306
CREATED:20250221T075635Z
LAST-MODIFIED:20250225T073831Z
UID:1979-1725580800-1725667199@akademi.viachristus.com
SUMMARY:Kilise Tarihi Semineri
DESCRIPTION:Paylaşım: Mehmet Durmaz\, İlker Akbaş
URL:https://akademi.viachristus.com/event/kilise-tarihi-semineri/
CATEGORIES:Seminer / Online
END:VEVENT
BEGIN:VEVENT
DTSTART;VALUE=DATE:20240930
DTEND;VALUE=DATE:20241005
DTSTAMP:20260422T105306
CREATED:20250221T075733Z
LAST-MODIFIED:20250225T103007Z
UID:1981-1727654400-1728086399@akademi.viachristus.com
SUMMARY:Sistematik Teoloji I
DESCRIPTION:Eğitmen: Gregory Cline\nDERSİN TANIMI\nBu ders Sistematik Teolojinin ilk beş konusunu inceleyecektir: Teolojiye Giriş\, Tanrı Bilimi (Baba Tanrı Bilimi\, Mesih Bilimi ve Kutsal Ruh Bilimi hakkında bazı materyaller)\, Kutsal Kitap Bilimi\, İnsan Bilimi ve Günah Bilimi. Ders\, bu bölümlerin her birinin ana konularını\, Kutsal Yazıların önemli metinlerini\, bu konular ile ilgili önemli tartışmaları ve Hristiyanlık Tarihi boyunca etkili olmuş sapkın öğretileri tanıtacaktır. \nDERSİN AMACI\n• Öğrencilere Sistematik Teoloji’nin ilk beş temel ayrımını tanıtmak.\n• Öğrencilerin ele alınan konular ile ilgili olarak Kutsal Kitap’ı daha iyi anlayabilmelerini sağlamak.\n• Teoloji için Kutsal Kitapsal ve Felsefi bir zemin oluşturmak.\n• Her alandaki önemli tartışma noktalarını veya güncel eğilimleri tanıtmak.\n• Bu konuların her birinde var olan yanlış öğretilere ve hatalara karşı uyarmak ve bilgilendirmek.\n• Söz konusu çalışma alanları arasındaki bağlantıları ve kopuklukları açıklamak.\n• Reformcu bir dünya görüşünü tanıtmak ve Teoloji üzerindeki etkisini göstermek. \nOKUMALAR\n\nJ. I. Packer – Teolojiye Giriş\n1. bölümden 41. bölüme kadar (okunacak sayfalar:1 – 137)\nWayne Grudem – Hristiyan İlahiyatı\n1. bölümden 14. bölüme kadar (okunacak sayfalar: 1 – 263)\nJohn Calvin – Hristiyan Dininin Temelleri\n1. Kitap (okunacak sayfalar: 1 – 121)\n2. Kitap\, 1. bölümden 5. bölüme ve 12. bölümden 14. bölüme kadar (okunacak sayfalar: 122 – 183\, 257 – 276)\nJ. M. Boice – Hristiyan İnancının Temelleri\n1. Kitap (okunacak sayfalar: 1 – 199)\n2. Kitap (okunacak sayfalar: 204 – 236\, 291 – 315)
URL:https://akademi.viachristus.com/event/sistematik-teoloji-i/
LOCATION:Akademi Binası
CATEGORIES:Ana Ders
END:VEVENT
END:VCALENDAR