BEGIN:VCALENDAR
VERSION:2.0
PRODID:-//VIA CHRISTUS AKADEMİ - ECPv6.15.17.1//NONSGML v1.0//EN
CALSCALE:GREGORIAN
METHOD:PUBLISH
X-ORIGINAL-URL:https://akademi.viachristus.com
X-WR-CALDESC:VIA CHRISTUS AKADEMİ için etkinlikler
REFRESH-INTERVAL;VALUE=DURATION:PT1H
X-Robots-Tag:noindex
X-PUBLISHED-TTL:PT1H
BEGIN:VTIMEZONE
TZID:Europe/Moscow
BEGIN:STANDARD
TZOFFSETFROM:+0300
TZOFFSETTO:+0300
TZNAME:MSK
DTSTART:20230101T000000
END:STANDARD
END:VTIMEZONE
BEGIN:VEVENT
DTSTART;VALUE=DATE:20240711
DTEND;VALUE=DATE:20240712
DTSTAMP:20260422T133004
CREATED:20250221T082908Z
LAST-MODIFIED:20250225T073842Z
UID:2007-1720656000-1720742399@akademi.viachristus.com
SUMMARY:Kilise Tarihi Online Semineri
DESCRIPTION:Paylaşım: Tüm Master Öğrencileri
URL:https://akademi.viachristus.com/event/kilise-tarihi-online-semineri/
CATEGORIES:Seminer / Online
END:VEVENT
END:VCALENDAR